BEGIN:VCALENDAR
VERSION:2.0
PRODID:-//eventon.com NONSGML v1.0//EN
CALSCALE:GREGORIAN
METHOD:PUBLISH
BEGIN:VEVENT
UID:69e788d153f9e
DTSTAMP:20260421T142521Z
DTSTART:20260623T230000Z
DTEND:20260623T230000Z
LOCATION:
SUMMARY:Crowded Minds at JJ's Grille
DESCRIPTION:Come join us on Tuesday for a night of music\,  great food and 
 drinks!\nhttps://jjsgrille.com/events/crowded-minds-at-jjs-grille-3/
URL:https://jjsgrille.com/events/crowded-minds-at-jjs-grille-3/
END:VEVENT
END:VCALENDAR