BEGIN:VCALENDAR
VERSION:2.0
PRODID:-//eventon.com NONSGML v1.0//EN
CALSCALE:GREGORIAN
METHOD:PUBLISH
BEGIN:VEVENT
UID:69e7867f396f7
DTSTAMP:20260421T141527Z
DTSTART:20260425T000000Z
DTEND:20260425T000000Z
LOCATION:
SUMMARY:Abrams Bridge at JJ's Grille
DESCRIPTION:Looking forward to rocking at JJ's!\nhttps://jjsgrille.com/even
 ts/abrams-bridge-at-jjs-grille/
URL:https://jjsgrille.com/events/abrams-bridge-at-jjs-grille/
END:VEVENT
END:VCALENDAR