BEGIN:VCALENDAR
VERSION:2.0
PRODID:-//eventon.com NONSGML v1.0//EN
CALSCALE:GREGORIAN
METHOD:PUBLISH
BEGIN:VEVENT
UID:69e76b3faa994
DTSTAMP:20260421T121911Z
DTSTART:20260503T000000Z
DTEND:20260503T030000Z
LOCATION:
SUMMARY:The Taters @ JJ's Grille
DESCRIPTION:The Taters return to JJ's! Get your reservations early! 804-755
 -6229\nhttps://jjsgrille.com/events/the-taters-jjs-grille-2/
URL:https://jjsgrille.com/events/the-taters-jjs-grille-2/
END:VEVENT
END:VCALENDAR