BEGIN:VCALENDAR
VERSION:2.0
PRODID:-//eventon.com NONSGML v1.0//EN
CALSCALE:GREGORIAN
METHOD:PUBLISH
BEGIN:VEVENT
UID:69e78603977b3
DTSTAMP:20260421T141323Z
DTSTART:20260614T000000Z
DTEND:20260614T000000Z
LOCATION:
SUMMARY:Pat O'Brien Plays JJ's Grille
DESCRIPTION:I hope to see you as I return to a favorite venue\,  JJ's Grill
 e. Enjoy comfort food\,  your favorite beverages and live music by request.
  I'll start at 8:00 p.m. #PatOBrienRVA #PatOBrien #JJsGrille #LiveMusicRVA 
 #AcousticMusicRVA #RVAMusic #LiveMusic #SoloAcoustic\nhttps://jjsgrille.com
 /events/pat-obrien-plays-jjs-grille-31/
URL:https://jjsgrille.com/events/pat-obrien-plays-jjs-grille-31/
END:VEVENT
END:VCALENDAR