BEGIN:VCALENDAR
VERSION:2.0
PRODID:-//eventon.com NONSGML v1.0//EN
CALSCALE:GREGORIAN
METHOD:PUBLISH
BEGIN:VEVENT
UID:69e7852d9673e
DTSTAMP:20260421T140949Z
DTSTART:20260502T000000Z
DTEND:20260502T030000Z
LOCATION:
SUMMARY:Live at JJ's - The Jangling Reinharts
DESCRIPTION:The Jangling Reinharts are back at JJ's Grille on Fri 5/1. The 
 show starts at 8PM.Visit our website at https://www.jjsgrille.com or call 80
 4-755-6229 for reservations. There is a $5 cover for this event.\nhttps://j
 jsgrille.com/events/live-at-jjs-the-jangling-reinharts-18/
URL:https://jjsgrille.com/events/live-at-jjs-the-jangling-reinharts-18/
END:VEVENT
END:VCALENDAR