BEGIN:VCALENDAR
VERSION:2.0
PRODID:-//eventon.com NONSGML v1.0//EN
CALSCALE:GREGORIAN
METHOD:PUBLISH
BEGIN:VEVENT
UID:69e76b24b391f
DTSTAMP:20260421T121844Z
DTSTART:20260428T230000Z
DTEND:20260429T020000Z
LOCATION:
SUMMARY:Live at JJ's - Crowded Minds
DESCRIPTION:Join us Tue 4/28 for the return of Crowded Minds to JJ's Grille
 !Call 804-755-6229 for reservations. Show starts at 7PM. No Cover.\nhttps:/
 /jjsgrille.com/events/live-at-jjs-crowded-minds-7/
URL:https://jjsgrille.com/events/live-at-jjs-crowded-minds-7/
END:VEVENT
END:VCALENDAR