BEGIN:VCALENDAR
VERSION:2.0
PRODID:-//eventon.com NONSGML v1.0//EN
CALSCALE:GREGORIAN
METHOD:PUBLISH
BEGIN:VEVENT
UID:69e78547172e2
DTSTAMP:20260421T141015Z
DTSTART:20260423T230000Z
DTEND:20260424T020000Z
LOCATION:
SUMMARY:Live at JJ's - Smoke & Wine Duo
DESCRIPTION:Smoke & Wine Duo is back at JJ's Grille on Thu 4/23. The show s
 tarts at 8PM.Visit our website at https://www.jjsgrille.com or call 804-755-
 6229 for reservations. No Cover.\nhttps://jjsgrille.com/events/live-at-jjs-
 smoke-wine-duo-3/
URL:https://jjsgrille.com/events/live-at-jjs-smoke-wine-duo-3/
END:VEVENT
END:VCALENDAR