BEGIN:VCALENDAR
VERSION:2.0
PRODID:-//eventon.com NONSGML v1.0//EN
CALSCALE:GREGORIAN
METHOD:PUBLISH
BEGIN:VEVENT
UID:69e5a22e15797
DTSTAMP:20260420T034902Z
DTSTART:20260421T230000Z
DTEND:20260421T230000Z
LOCATION:
SUMMARY:The Wrest Plays JJ's Grille
DESCRIPTION:Join The Wrest Jane Stanley\,  Jim White\,  Bruce Gober and Pat
  O'Brien) for our Tuesday show at JJ's Grille. Reservations are suggested. 
 #PatOBrienRVA #PatOBrien #JJsGrille #TheWrest #LiveMusicRVA #AcousticMusicR
 VA #RVAMusic #LiveMusic #SoloAcoustic\nhttps://jjsgrille.com/events/the-wre
 st-plays-jjs-grille-11/
URL:https://jjsgrille.com/events/the-wrest-plays-jjs-grille-11/
END:VEVENT
END:VCALENDAR