BEGIN:VCALENDAR
VERSION:2.0
PRODID:-//eventon.com NONSGML v1.0//EN
CALSCALE:GREGORIAN
METHOD:PUBLISH
BEGIN:VEVENT
UID:69e76bb57b474
DTSTAMP:20260421T122109Z
DTSTART:20260430T230000Z
DTEND:20260501T020000Z
LOCATION:
SUMMARY:Live at JJ's- B & M.O.
DESCRIPTION:Join us Thu 4/30 for the JJ's premier of R&B Thursday featuring
  B&M.O! M.O. is a soulful vocalist and percussionist from right here in Ric
 hmond. A multi-talented artist\,  accompanying herself on the guitar\,  key
 s\,  and drums! Show starts at 7 pm. Visit our website at http://www.jjsgri
 lle.com or call 804-755-6229 for[..]\nhttps://jjsgrille.com/events/live-at-
 jjs-b-m-o/
URL:https://jjsgrille.com/events/live-at-jjs-b-m-o/
END:VEVENT
END:VCALENDAR