BEGIN:VCALENDAR
VERSION:2.0
PRODID:-//eventon.com NONSGML v1.0//EN
CALSCALE:GREGORIAN
METHOD:PUBLISH
BEGIN:VEVENT
UID:69e7858525948
DTSTAMP:20260421T141117Z
DTSTART:20260517T000000Z
DTEND:20260517T030000Z
LOCATION:
SUMMARY:Live at JJ's- The Broad Strokes
DESCRIPTION:Join us Sat 5/16 for the JJ's debut of The Broad Strokes! The s
 how starts at 8PM. Visit our website at https://www.jjsgrille.com or call 80
 4-755-6229 for reservations. There is a $5 cover for this event.\nhttps://j
 jsgrille.com/events/live-at-jjs-the-broad-strokes/
URL:https://jjsgrille.com/events/live-at-jjs-the-broad-strokes/
END:VEVENT
END:VCALENDAR