BEGIN:VCALENDAR
VERSION:2.0
PRODID:-//eventon.com NONSGML v1.0//EN
CALSCALE:GREGORIAN
METHOD:PUBLISH
BEGIN:VEVENT
UID:69e76b7bd47d1
DTSTAMP:20260421T122011Z
DTSTART:20260426T000000Z
DTEND:20260426T030000Z
LOCATION:
SUMMARY:Live at JJ's- Blackstrap Molasses
DESCRIPTION:Join us Sat 4/25 for the JJ's debut of Blackstrap Molasses! The
  show starts at 8PM. Visit our website at https://www.jjsgrille.com or call 
 804-755-6229 for reservations.\nhttps://jjsgrille.com/events/live-at-jjs-bl
 ackstrap-molasses/
URL:https://jjsgrille.com/events/live-at-jjs-blackstrap-molasses/
END:VEVENT
END:VCALENDAR